BEGIN:VCALENDAR
VERSION:2.0
PRODID:-//jEvents 2.0 for Joomla//EN
CALSCALE:GREGORIAN
METHOD:PUBLISH
BEGIN:VTIMEZONE
TZID:Europe/Berlin
BEGIN:STANDARD
DTSTART:20251223T140000
RDATE:20260329T030000
TZOFFSETFROM:+0200
TZOFFSETTO:+0100
TZNAME:Europe/Berlin CET
END:STANDARD
BEGIN:STANDARD
DTSTART:20261025T020000
RDATE:20270328T030000
TZOFFSETFROM:+0200
TZOFFSETTO:+0100
TZNAME:Europe/Berlin CET
END:STANDARD
BEGIN:DAYLIGHT
DTSTART:20260329T030000
RDATE:20261025T020000
TZOFFSETFROM:+0100
TZOFFSETTO:+0200
TZNAME:Europe/Berlin CEST
END:DAYLIGHT
END:VTIMEZONE
BEGIN:VEVENT
UID:2aa1e5e69fec6a09115d5a85fecaac85
CATEGORIES:Jahresterminplan
CREATED:20260424T114949
SUMMARY:Familiengottesdienst zu Heiligabend - Pfr. Rüdiger Holthoff
LOCATION:Segenskirche
DESCRIPTION:<p>mit Krippenspiel</p>
DTSTAMP:20260424T124612
DTSTART;TZID=Europe/Berlin:20261224T140000
DTEND;TZID=Europe/Berlin:20261224T144500
SEQUENCE:0
TRANSP:OPAQUE
END:VEVENT
END:VCALENDAR